BEGIN:VCALENDAR
VERSION:2.0
PRODID:-//wp-events-plugin.com//7.2.3.1//EN
TZID:Europe/Paris
X-WR-TIMEZONE:Europe/Paris
BEGIN:VEVENT
UID:1792@cafeculturelcitoyen.org
DTSTART;TZID=Europe/Paris:20220727T203000
DTEND;TZID=Europe/Paris:20220727T213000
DTSTAMP:20220707T100049Z
URL:https://cafeculturelcitoyen.org/evenements/4950/
SUMMARY:A fleur2 peaux\, Soirée contes - avec Corinne Molina
DESCRIPTION:"Venez vous lover au 3C pour découvrir "À Fleur 2 Peaux"\, de
 s contes qui vous mèneront au-delà des apparences".\n\nCorinne Molina\, 
 conteuse professionnelle\, nous invite à une merveilleuse soirée de réc
 its et narrations.
ATTACH;FMTTYPE=image/jpeg:https://cafeculturelcitoyen.org/wp-content/uploa
 ds/2022/07/Capture-decran-2022-07-07-111823.png
END:VEVENT
BEGIN:VTIMEZONE
TZID:Europe/Paris
X-LIC-LOCATION:Europe/Paris
BEGIN:DAYLIGHT
DTSTART:20220327T030000
TZOFFSETFROM:+0100
TZOFFSETTO:+0200
TZNAME:CEST
END:DAYLIGHT
END:VTIMEZONE
END:VCALENDAR