BEGIN:VCALENDAR
VERSION:2.0
PRODID:-//wp-events-plugin.com//7.2.3.1//EN
TZID:Europe/Paris
X-WR-TIMEZONE:Europe/Paris
BEGIN:VEVENT
UID:1691@cafeculturelcitoyen.org
DTSTART;TZID=Europe/Paris:20220325T203000
DTEND;TZID=Europe/Paris:20220325T213000
DTSTAMP:20220308T102600Z
URL:https://cafeculturelcitoyen.org/evenements/4605/
SUMMARY:Concert Simon Pelé
DESCRIPTION:Après avoir fait ses classes au conservatoire\, Simon Pelé s'
 est produit avec différents groupes dans divers festivals français et eu
 ropéens : We Love Green (France)\, Jazz à Vienne\n(France)\, Breda jazz 
 festival (Pays-Bas)\, Vittoria jazz festival\n(Espagne)\, Transmusicales (
 France)\,...\nIl travaille actuellement sur un nouveau projet\nsolo (100% 
 de compositions) CACTUS \, dans lequel il joue trompette\,\nchant\, synth
 étiseurs\, guitare. Il va nous présenter sur scène ce nouvel EP qui sor
 tira au printemps 2022.\nhttps://www.youtube.com/watch?v=P41cSpUN7jc\n\n&n
 bsp\;
ATTACH;FMTTYPE=image/jpeg:https://cafeculturelcitoyen.org/wp-content/uploa
 ds/2022/03/Sans-titre21.jpg
END:VEVENT
BEGIN:VTIMEZONE
TZID:Europe/Paris
X-LIC-LOCATION:Europe/Paris
BEGIN:STANDARD
DTSTART:20211031T020000
TZOFFSETFROM:+0200
TZOFFSETTO:+0100
TZNAME:CET
END:STANDARD
END:VTIMEZONE
END:VCALENDAR