BEGIN:VCALENDAR
VERSION:2.0
PRODID:-//wp-events-plugin.com//7.2.3.1//EN
TZID:Europe/Paris
X-WR-TIMEZONE:Europe/Paris
BEGIN:VEVENT
UID:1680@cafeculturelcitoyen.org
DTSTART;TZID=Europe/Paris:20220225T203000
DTEND;TZID=Europe/Paris:20220225T213000
DTSTAMP:20220223T161254Z
URL:https://cafeculturelcitoyen.org/evenements/4558/
SUMMARY:Spectacle l'étoile
DESCRIPTION:A partir de 50 ans les femmes développent un super pouvoir ell
 es deviennent invisibles...... Enfin pour leur mari\, leurs enfants\, leur
  patron\, les comédiennes elles\, disparaissent complètement des ondes d
 es écrans\, des scènes de théâtre.\nDe ce constat Coline Mordillat a
  fait un spectacle l'Etoile .\nEntre anecdotes personnelles et réflexions
  universelles faisant appel à la comédie et au chant convoquant Guy de M
 aupassant ou le tarot de Marseille elle livre avec ce seule en scène une 
 galeries de personnages féminins réels ou fictifs qui chacun à leur man
 ière incarne une facette de la féminité.\nUn spectacle drôle détonnan
 t et décalé!\n\nUn petit extrait ci-dessous :\n\nhttps://www.youtube.com
 /watch?v=k7yjllQEIaI\n\n\n\n\n
ATTACH;FMTTYPE=image/jpeg:https://cafeculturelcitoyen.org/wp-content/uploa
 ds/2022/02/Sans-titre67.jpg
END:VEVENT
BEGIN:VTIMEZONE
TZID:Europe/Paris
X-LIC-LOCATION:Europe/Paris
BEGIN:STANDARD
DTSTART:20211031T020000
TZOFFSETFROM:+0200
TZOFFSETTO:+0100
TZNAME:CET
END:STANDARD
END:VTIMEZONE
END:VCALENDAR