BEGIN:VCALENDAR
VERSION:2.0
PRODID:-//wp-events-plugin.com//7.2.3.1//EN
TZID:Europe/Paris
X-WR-TIMEZONE:Europe/Paris
BEGIN:VEVENT
UID:2295@cafeculturelcitoyen.org
DTSTART;TZID=Europe/Paris:20230610T170000
DTEND;TZID=Europe/Paris:20230610T183000
DTSTAMP:20230529T145725Z
URL:https://cafeculturelcitoyen.org/evenements/10-ans-du-3c-vernissage-de-
 lexposition-collective-et-commemorative/
SUMMARY:10 ans du 3C - Vernissage de l'exposition collective et commémorat
 ive
DESCRIPTION:Une exposition collective est à découvrir au 3C\,  durant to
 ut le mois de juin 2023.\nPlusieurs artistes ont prêté leurs œuvres - p
 hotos\, peintures\, croquis - pour envahir le mur d'exposition\, ainsi que
  les passionnés de dessin de  l'atelier croquis du mardi (tous les mardi
 s à 17h au 3C\, participation libre) :\nZoisic Heaume\, Valentin Brunel\,
  Camille Fons-Czernik\, Laurent Bidon\, Brigitte Vidal\, etc. et les croqu
 eurs-ses ...
ATTACH;FMTTYPE=image/jpeg:https://cafeculturelcitoyen.org/wp-content/uploa
 ds/2023/05/Diapositive1.jpg
END:VEVENT
BEGIN:VTIMEZONE
TZID:Europe/Paris
X-LIC-LOCATION:Europe/Paris
BEGIN:DAYLIGHT
DTSTART:20230326T030000
TZOFFSETFROM:+0100
TZOFFSETTO:+0200
TZNAME:CEST
END:DAYLIGHT
END:VTIMEZONE
END:VCALENDAR