BEGIN:VCALENDAR
VERSION:2.0
PRODID:-//wp-events-plugin.com//7.2.3.1//EN
TZID:Europe/Paris
X-WR-TIMEZONE:Europe/Paris
BEGIN:VEVENT
UID:2309@cafeculturelcitoyen.org
DTSTART;TZID=Europe/Paris:20230610T171500
DTEND;TZID=Europe/Paris:20230610T180000
DTSTAMP:20230606T124406Z
URL:https://cafeculturelcitoyen.org/evenements/10-ans-du-3c-venez-partager
 -le-gateau-danniversaire/
SUMMARY:10 ans du 3C - Venez partager le gâteau d'anniversaire !
DESCRIPTION:Venez nombreux-euses à l'issue de la marche pour souffler les 
 bougies !
ATTACH;FMTTYPE=image/jpeg:https://cafeculturelcitoyen.org/wp-content/uploa
 ds/2023/06/Capture-decran-2023-06-06-144246.jpg
END:VEVENT
BEGIN:VTIMEZONE
TZID:Europe/Paris
X-LIC-LOCATION:Europe/Paris
BEGIN:DAYLIGHT
DTSTART:20230326T030000
TZOFFSETFROM:+0100
TZOFFSETTO:+0200
TZNAME:CEST
END:DAYLIGHT
END:VTIMEZONE
END:VCALENDAR