BEGIN:VCALENDAR
VERSION:2.0
PRODID:-//wp-events-plugin.com//7.2.3.1//EN
TZID:Europe/Paris
X-WR-TIMEZONE:Europe/Paris
BEGIN:VEVENT
UID:2299@cafeculturelcitoyen.org
DTSTART;TZID=Europe/Paris:20230614T200000
DTEND;TZID=Europe/Paris:20230614T220000
DTSTAMP:20230529T184854Z
URL:https://cafeculturelcitoyen.org/evenements/10-ans-du-3c-le-boeuf-jazz-
 manouche-fete-aussi-ses-10-ans/
SUMMARY:10 ans du 3C - Le Boeuf Jazz Manouche fête aussi ses 10 ans !
DESCRIPTION:Si vous souhaitez rencontrer d'autres musiciens\, jouer\, discu
 ter\, boire un verre... ou tout simplement écouter\, rendez vous au 3C po
 ur une soirée riche en swing. (Scène uniquement acoustique ouverte au mu
 sicien du style!).
ATTACH;FMTTYPE=image/jpeg:https://cafeculturelcitoyen.org/wp-content/uploa
 ds/2017/08/Boeuf-Jazz-Manouche.jpg
END:VEVENT
BEGIN:VTIMEZONE
TZID:Europe/Paris
X-LIC-LOCATION:Europe/Paris
BEGIN:DAYLIGHT
DTSTART:20230326T030000
TZOFFSETFROM:+0100
TZOFFSETTO:+0200
TZNAME:CEST
END:DAYLIGHT
END:VTIMEZONE
END:VCALENDAR