BEGIN:VCALENDAR
VERSION:2.0
PRODID:-//wp-events-plugin.com//7.2.3.1//EN
TZID:Europe/Paris
X-WR-TIMEZONE:Europe/Paris
BEGIN:VEVENT
UID:2303@cafeculturelcitoyen.org
DTSTART;TZID=Europe/Paris:20230610T200000
DTEND;TZID=Europe/Paris:20230610T220000
DTSTAMP:20230530T145605Z
URL:https://cafeculturelcitoyen.org/evenements/10-ans-du-3c-grande-scene-o
 uverte/
SUMMARY:10 ans du 3c - Grande scène ouverte !
DESCRIPTION:Vous jouez d'un instrument\, vous chantez\, vous êtes seul-e o
 u plusieurs membres d'un groupe de jazz\, de rock\, de soul\, de cumbia...
 \nAidez-nous à fêter dignement nos 10 ans en vous produisant sur scène.
 \nLe 3C s'est fait une spécialité de soutenir les artistes\, jeunes ou m
 oins jeunes et de leur ouvrir sa scène.\nVenez à partir de 19h pour assi
 ster aux sets de s copains et copines et préparer votre matériel si beso
 in. Micros\, sono\, piano sur place.\nChaque set peut durer entre 10 à 20
  minutes\, et le public vous est acquis.\n\nSi vous souhaitez vous produir
 e sur notre scène\, merci de nous contacter par mail à programmationle3C
 @gmail.com /par message privé via notre page Facebook. Ou directement le 
 jour J s'il reste des places.
ATTACH;FMTTYPE=image/jpeg:https://cafeculturelcitoyen.org/wp-content/uploa
 ds/2019/08/64940862_2307299869365244_5598009954985312256_n.jpg
END:VEVENT
BEGIN:VTIMEZONE
TZID:Europe/Paris
X-LIC-LOCATION:Europe/Paris
BEGIN:DAYLIGHT
DTSTART:20230326T030000
TZOFFSETFROM:+0100
TZOFFSETTO:+0200
TZNAME:CEST
END:DAYLIGHT
END:VTIMEZONE
END:VCALENDAR