BEGIN:VCALENDAR
VERSION:2.0
PRODID:-//wp-events-plugin.com//7.2.3.1//EN
TZID:Europe/Paris
X-WR-TIMEZONE:Europe/Paris
BEGIN:VEVENT
UID:2297@cafeculturelcitoyen.org
DTSTART;TZID=Europe/Paris:20230610T140000
DTEND;TZID=Europe/Paris:20230610T170000
DTSTAMP:20230529T183231Z
URL:https://cafeculturelcitoyen.org/evenements/10-ans-du-3c-grande-marche-
 du-3c-dans-les-rues-daix-en-provence/
SUMMARY:10 ans du 3C - Grande marche du 3C dans les rues d'Aix en Provence
DESCRIPTION:Rejoignez-nous pour fêter nos dix ans dignement et dans la bon
 ne humeur. Le parcours :\n\n- à 14 heures à la Rotonde\, on remontera le
  cours Mirabeau\, pour se faufiler dans les rues du vieil Aix\, puis mont
 ée de la rue Mignet\, Maréchal Joffre jusqu'au 3C\n\nArrivée prévue au
  plus tard à 17 heures.\n\nLe parcours sera émaillé de prises de parole
  et de distribution de flyers\, de discussions avec le public. Soyons nomb
 reux-euses pour fêter nos dix ans !\n\n&nbsp\;\n\n&nbsp\;\n\n
ATTACH;FMTTYPE=image/jpeg:https://cafeculturelcitoyen.org/wp-content/uploa
 ds/2023/01/Capture-decran-2022-09-14-182343.jpg
END:VEVENT
BEGIN:VTIMEZONE
TZID:Europe/Paris
X-LIC-LOCATION:Europe/Paris
BEGIN:DAYLIGHT
DTSTART:20230326T030000
TZOFFSETFROM:+0100
TZOFFSETTO:+0200
TZNAME:CEST
END:DAYLIGHT
END:VTIMEZONE
END:VCALENDAR