BEGIN:VCALENDAR
VERSION:2.0
PRODID:-//wp-events-plugin.com//7.2.3.1//EN
TZID:Europe/Paris
X-WR-TIMEZONE:Europe/Paris
BEGIN:VEVENT
UID:2298@cafeculturelcitoyen.org
DTSTART;TZID=Europe/Paris:20230617T150000
DTEND;TZID=Europe/Paris:20230617T233000
DTSTAMP:20230604T142435Z
URL:https://cafeculturelcitoyen.org/evenements/10-ans-du-3c-grand-baleti-h
 ors-les-murs-avec-le-relais-des-possibles-et-ciac-boum/
SUMMARY:10 ans du 3C - Grand Baléti hors les murs\, avec le Relais des Pos
 sibles et Ciac Boum
DESCRIPTION:Les 10 ans du 3C coïncident avec les 40 ans du Relais des Poss
 ibles. Tous les deux se sont associés pour animer la journée et la soir
 ée culminant avec le Grand Baléti\, au Parc Rambot.\n\nÀ cette occasion
  de nombreuses animations et activités sont proposées\, dès 15h.\n\n\nA
 ix Balèti vous propose une initiation aux danses Trad ainsi qu'une exposi
 tion photo sur l'univers du Bal. Si vous connaissez déjà le trad\, pas b
 esoin d'en dire plus\, on se verra forcément le 17 Juin. Pour celles et c
 eux qui n'ont pas encore de fourmis dans les jambes à cette idée\, notez
  la date\, car le monde du Bal va vous inviter à danser et/ou à entendre
  une musique de liens!! \n\nEt à 20 démarrera le Bal avec le Groupe Ciac
  Boum !\n
ATTACH;FMTTYPE=image/jpeg:https://cafeculturelcitoyen.org/wp-content/uploa
 ds/2023/05/ciac-boum.jpg
END:VEVENT
BEGIN:VTIMEZONE
TZID:Europe/Paris
X-LIC-LOCATION:Europe/Paris
BEGIN:DAYLIGHT
DTSTART:20230326T030000
TZOFFSETFROM:+0100
TZOFFSETTO:+0200
TZNAME:CEST
END:DAYLIGHT
END:VTIMEZONE
END:VCALENDAR