BEGIN:VCALENDAR
VERSION:2.0
PRODID:-//wp-events-plugin.com//7.2.3.1//EN
TZID:Europe/Paris
X-WR-TIMEZONE:Europe/Paris
BEGIN:VEVENT
UID:2300@cafeculturelcitoyen.org
DTSTART;TZID=Europe/Paris:20230612T170000
DTEND;TZID=Europe/Paris:20230612T200000
DTSTAMP:20230604T171422Z
URL:https://cafeculturelcitoyen.org/evenements/10-ans-du-3c-forum-des-asso
 ciations/
SUMMARY:10 ans du 3C - Forum des associations
DESCRIPTION:Adhérent-es d'associations aixoises\, venez rencontrer d'autre
 s associations aixoises\, utilisatrices ou non de notre café\, pour écha
 nger et envisager l'avenir avec un 3C à votre service.
ATTACH;FMTTYPE=image/jpeg:https://cafeculturelcitoyen.org/wp-content/uploa
 ds/2023/05/01.jpg
END:VEVENT
BEGIN:VTIMEZONE
TZID:Europe/Paris
X-LIC-LOCATION:Europe/Paris
BEGIN:DAYLIGHT
DTSTART:20230326T030000
TZOFFSETFROM:+0100
TZOFFSETTO:+0200
TZNAME:CEST
END:DAYLIGHT
END:VTIMEZONE
END:VCALENDAR