BEGIN:VCALENDAR
VERSION:2.0
PRODID:-//wp-events-plugin.com//7.2.3.1//EN
TZID:Europe/Paris
X-WR-TIMEZONE:Europe/Paris
BEGIN:VEVENT
UID:2293@cafeculturelcitoyen.org
DTSTART;TZID=Europe/Paris:20230614T140000
DTEND;TZID=Europe/Paris:20230614T180000
DTSTAMP:20230529T132650Z
URL:https://cafeculturelcitoyen.org/evenements/10-ans-du-3c-apres-midi-de-
 spectacles-pour-enfants-contes-clown/
SUMMARY:10 ans du 3C : Après-midi de spectacles pour enfants – Contes\, 
 Clown…
DESCRIPTION:Trois spectacles pour les enfants\n\n14h : Béa Campagnoli  (P
 rogramme à venir)\n\n\nà 15 h : Lignes de vie\n\n\nUne clown vagabonde 
  et gloutonne marche entre deux lieux de vie éphémères pour passer la n
 uit. Fatiguée\, elle s'accorde une pause goûter.\nDifficile de rien retr
 ouver dans toute sa vie contenue dans ses deux sacs d'affaires.\nQuand sou
 dain\, surgit de nulle part\, elle voit\, au fond d'un des sacs\, une cord
 e rouge.\nIntriguée\, Free'sby va s'amuser comme une enfant avec la corde
  qui tour à tour deviendra ascenseur vers les nuages\, podium de défilé
 \, corde à sauter\, machine à laver pour finir en beauté pragmatique et
  poétique\, en corde à linge.\n\n\n\n\nà 16h: le secret de la mer\nAu P
 ays du Soleil Levant\, il y a très longtemps\, on dit que les gens avaien
 t l’habitude de jeter leurs soucis\, leurs problèmes\, leurs rêves noi
 rs ... dans la mer ! Oui\, ils les enfermaient dans des sacs qu’ils lan
 çaient en cachette dans les vagues. La mer était malheureuse : ça ne lu
 i plaisait pas du tout d’être prise pour une poubelle ! Elle se mettait
  en colère et\nles sacs à cauchemars\, ballottés par les vagues\, finis
 saient par se déchirer. Il en\nsortait alors toutes sortes de monstres et
  de dragons qui effrayaient les pêcheurs et faisaient fuir les poissons.\
 nHeureusement\, une petite fille pleine de Sagesse va apprendre à la mer 
 et aux habitants à métamorphoser leurs peurs\, leurs idées sombres\, en
  rêves de lumière et de couleurs.\nC’est ainsi qu’au Japon on racont
 e la naissance ... des cerfs-volants.\n\n\n\n\n\n
ATTACH;FMTTYPE=image/jpeg:https://cafeculturelcitoyen.org/wp-content/uploa
 ds/2023/05/spectacle-enfants.jpg
END:VEVENT
BEGIN:VTIMEZONE
TZID:Europe/Paris
X-LIC-LOCATION:Europe/Paris
BEGIN:DAYLIGHT
DTSTART:20230326T030000
TZOFFSETFROM:+0100
TZOFFSETTO:+0200
TZNAME:CEST
END:DAYLIGHT
END:VTIMEZONE
END:VCALENDAR